BEGIN:VCALENDAR
VERSION:2.0
PRODID:-//Ground N Sound - ECPv5.3.2.1//NONSGML v1.0//EN
CALSCALE:GREGORIAN
METHOD:PUBLISH
X-WR-CALNAME:Ground N Sound
X-ORIGINAL-URL:https://groundnsound.com.au
X-WR-CALDESC:Events for Ground N Sound
BEGIN:VTIMEZONE
TZID:Australia/Brisbane
BEGIN:STANDARD
TZOFFSETFROM:+1000
TZOFFSETTO:+1000
TZNAME:AEST
DTSTART:20210101T000000
END:STANDARD
END:VTIMEZONE
BEGIN:VEVENT
DTSTART;TZID=Australia/Brisbane:20220225T183000
DTEND;TZID=Australia/Brisbane:20220225T220000
DTSTAMP:20210224T170915
CREATED:20210201T021124Z
LAST-MODIFIED:20210219T043216Z
UID:1338-1645813800-1645826400@groundnsound.com.au
SUMMARY:Black Label Jazz
DESCRIPTION:THIS EVENT HAS BEEN CANCELLED FOR THIS MONTH.\nDue to family emergency. We wish the artist well and hope they will be able to return next month.
URL:https://groundnsound.com.au/event/black-label-jazz-2022-02-25/
LOCATION:Ground N Sound\, 23 Musgrave Ave\, Chirn Park\, Queensland\, 4215\, Australia
ATTACH;FMTTYPE=image/gif:https://groundnsound.com.au/wp-content/uploads/2021/02/jazz_band2_750x563.gif
ORGANIZER;CN="Ground%20N%20Sound%20Events":MAILTO:info@groundnsound.com.au
END:VEVENT
BEGIN:VEVENT
DTSTART;TZID=Australia/Brisbane:20220206T120000
DTEND;TZID=Australia/Brisbane:20220206T160000
DTSTAMP:20210224T170915
CREATED:20210201T023102Z
LAST-MODIFIED:20210208T021557Z
UID:1497-1644148800-1644163200@groundnsound.com.au
SUMMARY:Open MIC
DESCRIPTION:Come in and experience what the local talent has to offer!
URL:https://groundnsound.com.au/event/open-mic/2022-02-06/
LOCATION:Ground N Sound\, 23 Musgrave Ave\, Chirn Park\, Queensland\, 4215\, Australia
ATTACH;FMTTYPE=image/gif:https://groundnsound.com.au/wp-content/uploads/2021/02/jazz_band_750x563.gif
ORGANIZER;CN="Ground%20N%20Sound%20Events":MAILTO:info@groundnsound.com.au
END:VEVENT
BEGIN:VEVENT
DTSTART;TZID=Australia/Brisbane:20220204T183000
DTEND;TZID=Australia/Brisbane:20220204T210000
DTSTAMP:20210224T170915
CREATED:20210201T020527Z
LAST-MODIFIED:20210224T011232Z
UID:1312-1643999400-1644008400@groundnsound.com.au
SUMMARY:Stand Up Comedy
DESCRIPTION:In need of a good laugh? \nCome in for our free Stand Up Comedy night! \nRegular and local upcoming comedians.
URL:https://groundnsound.com.au/event/stand-up-comedy-2022-02-04/
LOCATION:Ground N Sound\, 23 Musgrave Ave\, Chirn Park\, Queensland\, 4215\, Australia
ATTACH;FMTTYPE=image/gif:https://groundnsound.com.au/wp-content/uploads/2021/01/Comedy_night_400x300-e1610764493133.gif
ORGANIZER;CN="Ground%20N%20Sound%20Events":MAILTO:info@groundnsound.com.au
END:VEVENT
BEGIN:VEVENT
DTSTART;TZID=Australia/Brisbane:20220202T183000
DTEND;TZID=Australia/Brisbane:20220202T210000
DTSTAMP:20210224T170915
CREATED:20210201T015401Z
LAST-MODIFIED:20210201T052741Z
UID:1445-1643826600-1643835600@groundnsound.com.au
SUMMARY:MUSIC TRIVIA NIGHT
DESCRIPTION:Test your musical knowledge.\nCovering everything from Abba to Zztop.\nCome alone or form a team!
URL:https://groundnsound.com.au/event/1190/2022-02-02/
LOCATION:Ground N Sound\, 23 Musgrave Ave\, Chirn Park\, Queensland\, 4215\, Australia
ATTACH;FMTTYPE=image/gif:https://groundnsound.com.au/wp-content/uploads/2021/02/Jake_750x562.gif
ORGANIZER;CN="Ground%20N%20Sound%20Events":MAILTO:info@groundnsound.com.au
END:VEVENT
BEGIN:VEVENT
DTSTART;TZID=Australia/Brisbane:20220130T120000
DTEND;TZID=Australia/Brisbane:20220130T160000
DTSTAMP:20210224T170915
CREATED:20210201T023102Z
LAST-MODIFIED:20210208T021557Z
UID:1496-1643544000-1643558400@groundnsound.com.au
SUMMARY:Open MIC
DESCRIPTION:Come in and experience what the local talent has to offer!
URL:https://groundnsound.com.au/event/open-mic/2022-01-30/
LOCATION:Ground N Sound\, 23 Musgrave Ave\, Chirn Park\, Queensland\, 4215\, Australia
ATTACH;FMTTYPE=image/gif:https://groundnsound.com.au/wp-content/uploads/2021/02/jazz_band_750x563.gif
ORGANIZER;CN="Ground%20N%20Sound%20Events":MAILTO:info@groundnsound.com.au
END:VEVENT
BEGIN:VEVENT
DTSTART;TZID=Australia/Brisbane:20220128T183000
DTEND;TZID=Australia/Brisbane:20220128T220000
DTSTAMP:20210224T170915
CREATED:20210201T021124Z
LAST-MODIFIED:20210211T012122Z
UID:1337-1643394600-1643407200@groundnsound.com.au
SUMMARY:Black Label Jazz
DESCRIPTION:For all our Jazz fans! \nTwo local musicians who love everything about jazz!
URL:https://groundnsound.com.au/event/black-label-jazz/2022-01-28/
LOCATION:Ground N Sound\, 23 Musgrave Ave\, Chirn Park\, Queensland\, 4215\, Australia
ATTACH;FMTTYPE=image/gif:https://groundnsound.com.au/wp-content/uploads/2021/02/jazz_band2_750x563.gif
ORGANIZER;CN="Ground%20N%20Sound%20Events":MAILTO:info@groundnsound.com.au
END:VEVENT
BEGIN:VEVENT
DTSTART;TZID=Australia/Brisbane:20220126T183000
DTEND;TZID=Australia/Brisbane:20220126T210000
DTSTAMP:20210224T170915
CREATED:20210201T015401Z
LAST-MODIFIED:20210201T052741Z
UID:1444-1643221800-1643230800@groundnsound.com.au
SUMMARY:MUSIC TRIVIA NIGHT
DESCRIPTION:Test your musical knowledge.\nCovering everything from Abba to Zztop.\nCome alone or form a team!
URL:https://groundnsound.com.au/event/1190/2022-01-26/
LOCATION:Ground N Sound\, 23 Musgrave Ave\, Chirn Park\, Queensland\, 4215\, Australia
ATTACH;FMTTYPE=image/gif:https://groundnsound.com.au/wp-content/uploads/2021/02/Jake_750x562.gif
ORGANIZER;CN="Ground%20N%20Sound%20Events":MAILTO:info@groundnsound.com.au
END:VEVENT
BEGIN:VEVENT
DTSTART;TZID=Australia/Brisbane:20220123T120000
DTEND;TZID=Australia/Brisbane:20220123T160000
DTSTAMP:20210224T170915
CREATED:20210201T023102Z
LAST-MODIFIED:20210208T021556Z
UID:1495-1642939200-1642953600@groundnsound.com.au
SUMMARY:Open MIC
DESCRIPTION:Come in and experience what the local talent has to offer!
URL:https://groundnsound.com.au/event/open-mic/2022-01-23/
LOCATION:Ground N Sound\, 23 Musgrave Ave\, Chirn Park\, Queensland\, 4215\, Australia
ATTACH;FMTTYPE=image/gif:https://groundnsound.com.au/wp-content/uploads/2021/02/jazz_band_750x563.gif
ORGANIZER;CN="Ground%20N%20Sound%20Events":MAILTO:info@groundnsound.com.au
END:VEVENT
BEGIN:VEVENT
DTSTART;TZID=Australia/Brisbane:20220119T183000
DTEND;TZID=Australia/Brisbane:20220119T210000
DTSTAMP:20210224T170915
CREATED:20210201T015401Z
LAST-MODIFIED:20210201T052739Z
UID:1443-1642617000-1642626000@groundnsound.com.au
SUMMARY:MUSIC TRIVIA NIGHT
DESCRIPTION:Test your musical knowledge.\nCovering everything from Abba to Zztop.\nCome alone or form a team!
URL:https://groundnsound.com.au/event/1190/2022-01-19/
LOCATION:Ground N Sound\, 23 Musgrave Ave\, Chirn Park\, Queensland\, 4215\, Australia
ATTACH;FMTTYPE=image/gif:https://groundnsound.com.au/wp-content/uploads/2021/02/Jake_750x562.gif
ORGANIZER;CN="Ground%20N%20Sound%20Events":MAILTO:info@groundnsound.com.au
END:VEVENT
BEGIN:VEVENT
DTSTART;TZID=Australia/Brisbane:20220116T120000
DTEND;TZID=Australia/Brisbane:20220116T160000
DTSTAMP:20210224T170915
CREATED:20210201T023102Z
LAST-MODIFIED:20210208T021556Z
UID:1494-1642334400-1642348800@groundnsound.com.au
SUMMARY:Open MIC
DESCRIPTION:Come in and experience what the local talent has to offer!
URL:https://groundnsound.com.au/event/open-mic/2022-01-16/
LOCATION:Ground N Sound\, 23 Musgrave Ave\, Chirn Park\, Queensland\, 4215\, Australia
ATTACH;FMTTYPE=image/gif:https://groundnsound.com.au/wp-content/uploads/2021/02/jazz_band_750x563.gif
ORGANIZER;CN="Ground%20N%20Sound%20Events":MAILTO:info@groundnsound.com.au
END:VEVENT
BEGIN:VEVENT
DTSTART;TZID=Australia/Brisbane:20220112T183000
DTEND;TZID=Australia/Brisbane:20220112T210000
DTSTAMP:20210224T170915
CREATED:20210201T015401Z
LAST-MODIFIED:20210201T052739Z
UID:1442-1642012200-1642021200@groundnsound.com.au
SUMMARY:MUSIC TRIVIA NIGHT
DESCRIPTION:Test your musical knowledge.\nCovering everything from Abba to Zztop.\nCome alone or form a team!
URL:https://groundnsound.com.au/event/1190/2022-01-12/
LOCATION:Ground N Sound\, 23 Musgrave Ave\, Chirn Park\, Queensland\, 4215\, Australia
ATTACH;FMTTYPE=image/gif:https://groundnsound.com.au/wp-content/uploads/2021/02/Jake_750x562.gif
ORGANIZER;CN="Ground%20N%20Sound%20Events":MAILTO:info@groundnsound.com.au
END:VEVENT
BEGIN:VEVENT
DTSTART;TZID=Australia/Brisbane:20220109T120000
DTEND;TZID=Australia/Brisbane:20220109T160000
DTSTAMP:20210224T170915
CREATED:20210201T023102Z
LAST-MODIFIED:20210224T011031Z
UID:1493-1641729600-1641744000@groundnsound.com.au
SUMMARY:Open MIC
DESCRIPTION:Come in and experience what the local talent has to offer!
URL:https://groundnsound.com.au/event/open-mic-2022-01-09/
LOCATION:Ground N Sound\, 23 Musgrave Ave\, Chirn Park\, Queensland\, 4215\, Australia
ATTACH;FMTTYPE=image/gif:https://groundnsound.com.au/wp-content/uploads/2021/02/jazz_band_750x563.gif
ORGANIZER;CN="Ground%20N%20Sound%20Events":MAILTO:info@groundnsound.com.au
END:VEVENT
BEGIN:VEVENT
DTSTART;TZID=Australia/Brisbane:20220107T183000
DTEND;TZID=Australia/Brisbane:20220107T210000
DTSTAMP:20210224T170915
CREATED:20210201T020527Z
LAST-MODIFIED:20210224T011059Z
UID:1311-1641580200-1641589200@groundnsound.com.au
SUMMARY:Stand Up Comedy
DESCRIPTION:In need of a good laugh? \nCome in for our free Stand Up Comedy night! \nRegular and local upcoming comedians.
URL:https://groundnsound.com.au/event/stand-up-comedy-2022-01-07/
LOCATION:Ground N Sound\, 23 Musgrave Ave\, Chirn Park\, Queensland\, 4215\, Australia
ATTACH;FMTTYPE=image/gif:https://groundnsound.com.au/wp-content/uploads/2021/01/Comedy_night_400x300-e1610764493133.gif
ORGANIZER;CN="Ground%20N%20Sound%20Events":MAILTO:info@groundnsound.com.au
END:VEVENT
BEGIN:VEVENT
DTSTART;TZID=Australia/Brisbane:20220105T183000
DTEND;TZID=Australia/Brisbane:20220105T210000
DTSTAMP:20210224T170915
CREATED:20210201T015401Z
LAST-MODIFIED:20210201T052739Z
UID:1441-1641407400-1641416400@groundnsound.com.au
SUMMARY:MUSIC TRIVIA NIGHT
DESCRIPTION:Test your musical knowledge.\nCovering everything from Abba to Zztop.\nCome alone or form a team!
URL:https://groundnsound.com.au/event/1190/2022-01-05/
LOCATION:Ground N Sound\, 23 Musgrave Ave\, Chirn Park\, Queensland\, 4215\, Australia
ATTACH;FMTTYPE=image/gif:https://groundnsound.com.au/wp-content/uploads/2021/02/Jake_750x562.gif
ORGANIZER;CN="Ground%20N%20Sound%20Events":MAILTO:info@groundnsound.com.au
END:VEVENT
BEGIN:VEVENT
DTSTART;TZID=Australia/Brisbane:20220102T120000
DTEND;TZID=Australia/Brisbane:20220102T160000
DTSTAMP:20210224T170915
CREATED:20210201T023102Z
LAST-MODIFIED:20210208T021556Z
UID:1492-1641124800-1641139200@groundnsound.com.au
SUMMARY:Open MIC
DESCRIPTION:Come in and experience what the local talent has to offer!
URL:https://groundnsound.com.au/event/open-mic/2022-01-02/
LOCATION:Ground N Sound\, 23 Musgrave Ave\, Chirn Park\, Queensland\, 4215\, Australia
ATTACH;FMTTYPE=image/gif:https://groundnsound.com.au/wp-content/uploads/2021/02/jazz_band_750x563.gif
ORGANIZER;CN="Ground%20N%20Sound%20Events":MAILTO:info@groundnsound.com.au
END:VEVENT
BEGIN:VEVENT
DTSTART;TZID=Australia/Brisbane:20211231T183000
DTEND;TZID=Australia/Brisbane:20211231T220000
DTSTAMP:20210224T170915
CREATED:20210201T021124Z
LAST-MODIFIED:20210211T012115Z
UID:1336-1640975400-1640988000@groundnsound.com.au
SUMMARY:Black Label Jazz
DESCRIPTION:For all our Jazz fans! \nTwo local musicians who love everything about jazz!
URL:https://groundnsound.com.au/event/black-label-jazz/2021-12-31/
LOCATION:Ground N Sound\, 23 Musgrave Ave\, Chirn Park\, Queensland\, 4215\, Australia
ATTACH;FMTTYPE=image/gif:https://groundnsound.com.au/wp-content/uploads/2021/02/jazz_band2_750x563.gif
ORGANIZER;CN="Ground%20N%20Sound%20Events":MAILTO:info@groundnsound.com.au
END:VEVENT
BEGIN:VEVENT
DTSTART;TZID=Australia/Brisbane:20211229T183000
DTEND;TZID=Australia/Brisbane:20211229T210000
DTSTAMP:20210224T170915
CREATED:20210201T015401Z
LAST-MODIFIED:20210201T052739Z
UID:1440-1640802600-1640811600@groundnsound.com.au
SUMMARY:MUSIC TRIVIA NIGHT
DESCRIPTION:Test your musical knowledge.\nCovering everything from Abba to Zztop.\nCome alone or form a team!
URL:https://groundnsound.com.au/event/1190/2021-12-29/
LOCATION:Ground N Sound\, 23 Musgrave Ave\, Chirn Park\, Queensland\, 4215\, Australia
ATTACH;FMTTYPE=image/gif:https://groundnsound.com.au/wp-content/uploads/2021/02/Jake_750x562.gif
ORGANIZER;CN="Ground%20N%20Sound%20Events":MAILTO:info@groundnsound.com.au
END:VEVENT
BEGIN:VEVENT
DTSTART;TZID=Australia/Brisbane:20211226T120000
DTEND;TZID=Australia/Brisbane:20211226T160000
DTSTAMP:20210224T170915
CREATED:20210201T023102Z
LAST-MODIFIED:20210208T021556Z
UID:1491-1640520000-1640534400@groundnsound.com.au
SUMMARY:Open MIC
DESCRIPTION:Come in and experience what the local talent has to offer!
URL:https://groundnsound.com.au/event/open-mic/2021-12-26/
LOCATION:Ground N Sound\, 23 Musgrave Ave\, Chirn Park\, Queensland\, 4215\, Australia
ATTACH;FMTTYPE=image/gif:https://groundnsound.com.au/wp-content/uploads/2021/02/jazz_band_750x563.gif
ORGANIZER;CN="Ground%20N%20Sound%20Events":MAILTO:info@groundnsound.com.au
END:VEVENT
BEGIN:VEVENT
DTSTART;TZID=Australia/Brisbane:20211222T183000
DTEND;TZID=Australia/Brisbane:20211222T210000
DTSTAMP:20210224T170915
CREATED:20210201T015401Z
LAST-MODIFIED:20210201T052739Z
UID:1439-1640197800-1640206800@groundnsound.com.au
SUMMARY:MUSIC TRIVIA NIGHT
DESCRIPTION:Test your musical knowledge.\nCovering everything from Abba to Zztop.\nCome alone or form a team!
URL:https://groundnsound.com.au/event/1190/2021-12-22/
LOCATION:Ground N Sound\, 23 Musgrave Ave\, Chirn Park\, Queensland\, 4215\, Australia
ATTACH;FMTTYPE=image/gif:https://groundnsound.com.au/wp-content/uploads/2021/02/Jake_750x562.gif
ORGANIZER;CN="Ground%20N%20Sound%20Events":MAILTO:info@groundnsound.com.au
END:VEVENT
BEGIN:VEVENT
DTSTART;TZID=Australia/Brisbane:20211219T120000
DTEND;TZID=Australia/Brisbane:20211219T160000
DTSTAMP:20210224T170915
CREATED:20210201T023102Z
LAST-MODIFIED:20210208T021555Z
UID:1490-1639915200-1639929600@groundnsound.com.au
SUMMARY:Open MIC
DESCRIPTION:Come in and experience what the local talent has to offer!
URL:https://groundnsound.com.au/event/open-mic/2021-12-19/
LOCATION:Ground N Sound\, 23 Musgrave Ave\, Chirn Park\, Queensland\, 4215\, Australia
ATTACH;FMTTYPE=image/gif:https://groundnsound.com.au/wp-content/uploads/2021/02/jazz_band_750x563.gif
ORGANIZER;CN="Ground%20N%20Sound%20Events":MAILTO:info@groundnsound.com.au
END:VEVENT
BEGIN:VEVENT
DTSTART;TZID=Australia/Brisbane:20211215T183000
DTEND;TZID=Australia/Brisbane:20211215T210000
DTSTAMP:20210224T170915
CREATED:20210201T015401Z
LAST-MODIFIED:20210201T052738Z
UID:1438-1639593000-1639602000@groundnsound.com.au
SUMMARY:MUSIC TRIVIA NIGHT
DESCRIPTION:Test your musical knowledge.\nCovering everything from Abba to Zztop.\nCome alone or form a team!
URL:https://groundnsound.com.au/event/1190/2021-12-15/
LOCATION:Ground N Sound\, 23 Musgrave Ave\, Chirn Park\, Queensland\, 4215\, Australia
ATTACH;FMTTYPE=image/gif:https://groundnsound.com.au/wp-content/uploads/2021/02/Jake_750x562.gif
ORGANIZER;CN="Ground%20N%20Sound%20Events":MAILTO:info@groundnsound.com.au
END:VEVENT
BEGIN:VEVENT
DTSTART;TZID=Australia/Brisbane:20211212T120000
DTEND;TZID=Australia/Brisbane:20211212T160000
DTSTAMP:20210224T170915
CREATED:20210201T023102Z
LAST-MODIFIED:20210208T021555Z
UID:1489-1639310400-1639324800@groundnsound.com.au
SUMMARY:Open MIC
DESCRIPTION:Come in and experience what the local talent has to offer!
URL:https://groundnsound.com.au/event/open-mic/2021-12-12/
LOCATION:Ground N Sound\, 23 Musgrave Ave\, Chirn Park\, Queensland\, 4215\, Australia
ATTACH;FMTTYPE=image/gif:https://groundnsound.com.au/wp-content/uploads/2021/02/jazz_band_750x563.gif
ORGANIZER;CN="Ground%20N%20Sound%20Events":MAILTO:info@groundnsound.com.au
END:VEVENT
BEGIN:VEVENT
DTSTART;TZID=Australia/Brisbane:20211208T183000
DTEND;TZID=Australia/Brisbane:20211208T210000
DTSTAMP:20210224T170915
CREATED:20210201T015401Z
LAST-MODIFIED:20210201T052738Z
UID:1437-1638988200-1638997200@groundnsound.com.au
SUMMARY:MUSIC TRIVIA NIGHT
DESCRIPTION:Test your musical knowledge.\nCovering everything from Abba to Zztop.\nCome alone or form a team!
URL:https://groundnsound.com.au/event/1190/2021-12-08/
LOCATION:Ground N Sound\, 23 Musgrave Ave\, Chirn Park\, Queensland\, 4215\, Australia
ATTACH;FMTTYPE=image/gif:https://groundnsound.com.au/wp-content/uploads/2021/02/Jake_750x562.gif
ORGANIZER;CN="Ground%20N%20Sound%20Events":MAILTO:info@groundnsound.com.au
END:VEVENT
BEGIN:VEVENT
DTSTART;TZID=Australia/Brisbane:20211205T120000
DTEND;TZID=Australia/Brisbane:20211205T160000
DTSTAMP:20210224T170915
CREATED:20210201T023102Z
LAST-MODIFIED:20210208T021555Z
UID:1488-1638705600-1638720000@groundnsound.com.au
SUMMARY:Open MIC
DESCRIPTION:Come in and experience what the local talent has to offer!
URL:https://groundnsound.com.au/event/open-mic/2021-12-05/
LOCATION:Ground N Sound\, 23 Musgrave Ave\, Chirn Park\, Queensland\, 4215\, Australia
ATTACH;FMTTYPE=image/gif:https://groundnsound.com.au/wp-content/uploads/2021/02/jazz_band_750x563.gif
ORGANIZER;CN="Ground%20N%20Sound%20Events":MAILTO:info@groundnsound.com.au
END:VEVENT
BEGIN:VEVENT
DTSTART;TZID=Australia/Brisbane:20211203T183000
DTEND;TZID=Australia/Brisbane:20211203T210000
DTSTAMP:20210224T170915
CREATED:20210201T020527Z
LAST-MODIFIED:20210211T014042Z
UID:1310-1638556200-1638565200@groundnsound.com.au
SUMMARY:Stand Up Comedy
DESCRIPTION:In need of a good laugh? \nCome in for our free Stand Up Comedy night! \nRegular and local upcoming comedians.
URL:https://groundnsound.com.au/event/stand-up-comedy/2021-12-03/
LOCATION:Ground N Sound\, 23 Musgrave Ave\, Chirn Park\, Queensland\, 4215\, Australia
ATTACH;FMTTYPE=image/gif:https://groundnsound.com.au/wp-content/uploads/2021/01/Comedy_night_400x300-e1610764493133.gif
ORGANIZER;CN="Ground%20N%20Sound%20Events":MAILTO:info@groundnsound.com.au
END:VEVENT
BEGIN:VEVENT
DTSTART;TZID=Australia/Brisbane:20211201T183000
DTEND;TZID=Australia/Brisbane:20211201T210000
DTSTAMP:20210224T170915
CREATED:20210201T015401Z
LAST-MODIFIED:20210201T052738Z
UID:1436-1638383400-1638392400@groundnsound.com.au
SUMMARY:MUSIC TRIVIA NIGHT
DESCRIPTION:Test your musical knowledge.\nCovering everything from Abba to Zztop.\nCome alone or form a team!
URL:https://groundnsound.com.au/event/1190/2021-12-01/
LOCATION:Ground N Sound\, 23 Musgrave Ave\, Chirn Park\, Queensland\, 4215\, Australia
ATTACH;FMTTYPE=image/gif:https://groundnsound.com.au/wp-content/uploads/2021/02/Jake_750x562.gif
ORGANIZER;CN="Ground%20N%20Sound%20Events":MAILTO:info@groundnsound.com.au
END:VEVENT
BEGIN:VEVENT
DTSTART;TZID=Australia/Brisbane:20211128T120000
DTEND;TZID=Australia/Brisbane:20211128T160000
DTSTAMP:20210224T170915
CREATED:20210201T023102Z
LAST-MODIFIED:20210208T021555Z
UID:1487-1638100800-1638115200@groundnsound.com.au
SUMMARY:Open MIC
DESCRIPTION:Come in and experience what the local talent has to offer!
URL:https://groundnsound.com.au/event/open-mic/2021-11-28/
LOCATION:Ground N Sound\, 23 Musgrave Ave\, Chirn Park\, Queensland\, 4215\, Australia
ATTACH;FMTTYPE=image/gif:https://groundnsound.com.au/wp-content/uploads/2021/02/jazz_band_750x563.gif
ORGANIZER;CN="Ground%20N%20Sound%20Events":MAILTO:info@groundnsound.com.au
END:VEVENT
BEGIN:VEVENT
DTSTART;TZID=Australia/Brisbane:20211126T183000
DTEND;TZID=Australia/Brisbane:20211126T220000
DTSTAMP:20210224T170915
CREATED:20210201T021124Z
LAST-MODIFIED:20210211T012115Z
UID:1335-1637951400-1637964000@groundnsound.com.au
SUMMARY:Black Label Jazz
DESCRIPTION:For all our Jazz fans! \nTwo local musicians who love everything about jazz!
URL:https://groundnsound.com.au/event/black-label-jazz/2021-11-26/
LOCATION:Ground N Sound\, 23 Musgrave Ave\, Chirn Park\, Queensland\, 4215\, Australia
ATTACH;FMTTYPE=image/gif:https://groundnsound.com.au/wp-content/uploads/2021/02/jazz_band2_750x563.gif
ORGANIZER;CN="Ground%20N%20Sound%20Events":MAILTO:info@groundnsound.com.au
END:VEVENT
BEGIN:VEVENT
DTSTART;TZID=Australia/Brisbane:20211124T183000
DTEND;TZID=Australia/Brisbane:20211124T210000
DTSTAMP:20210224T170915
CREATED:20210201T015401Z
LAST-MODIFIED:20210201T052738Z
UID:1435-1637778600-1637787600@groundnsound.com.au
SUMMARY:MUSIC TRIVIA NIGHT
DESCRIPTION:Test your musical knowledge.\nCovering everything from Abba to Zztop.\nCome alone or form a team!
URL:https://groundnsound.com.au/event/1190/2021-11-24/
LOCATION:Ground N Sound\, 23 Musgrave Ave\, Chirn Park\, Queensland\, 4215\, Australia
ATTACH;FMTTYPE=image/gif:https://groundnsound.com.au/wp-content/uploads/2021/02/Jake_750x562.gif
ORGANIZER;CN="Ground%20N%20Sound%20Events":MAILTO:info@groundnsound.com.au
END:VEVENT
BEGIN:VEVENT
DTSTART;TZID=Australia/Brisbane:20211121T120000
DTEND;TZID=Australia/Brisbane:20211121T160000
DTSTAMP:20210224T170915
CREATED:20210201T023102Z
LAST-MODIFIED:20210208T021555Z
UID:1486-1637496000-1637510400@groundnsound.com.au
SUMMARY:Open MIC
DESCRIPTION:Come in and experience what the local talent has to offer!
URL:https://groundnsound.com.au/event/open-mic/2021-11-21/
LOCATION:Ground N Sound\, 23 Musgrave Ave\, Chirn Park\, Queensland\, 4215\, Australia
ATTACH;FMTTYPE=image/gif:https://groundnsound.com.au/wp-content/uploads/2021/02/jazz_band_750x563.gif
ORGANIZER;CN="Ground%20N%20Sound%20Events":MAILTO:info@groundnsound.com.au
END:VEVENT
END:VCALENDAR