BEGIN:VCALENDAR
VERSION:2.0
PRODID:-//Ground N Sound - ECPv5.3.2.1//NONSGML v1.0//EN
CALSCALE:GREGORIAN
METHOD:PUBLISH
X-WR-CALNAME:Ground N Sound
X-ORIGINAL-URL:https://groundnsound.com.au
X-WR-CALDESC:Events for Ground N Sound
BEGIN:VTIMEZONE
TZID:Australia/Brisbane
BEGIN:STANDARD
TZOFFSETFROM:+1000
TZOFFSETTO:+1000
TZNAME:AEST
DTSTART:20210101T000000
END:STANDARD
END:VTIMEZONE
BEGIN:VEVENT
DTSTART;TZID=Australia/Brisbane:20210331T183000
DTEND;TZID=Australia/Brisbane:20210331T210000
DTSTAMP:20210224T172443
CREATED:20210201T015401Z
LAST-MODIFIED:20210201T052718Z
UID:1401-1617215400-1617224400@groundnsound.com.au
SUMMARY:MUSIC TRIVIA NIGHT
DESCRIPTION:Test your musical knowledge.\nCovering everything from Abba to Zztop.\nCome alone or form a team!
URL:https://groundnsound.com.au/event/1190/2021-03-31/
LOCATION:Ground N Sound\, 23 Musgrave Ave\, Chirn Park\, Queensland\, 4215\, Australia
ATTACH;FMTTYPE=image/gif:https://groundnsound.com.au/wp-content/uploads/2021/02/Jake_750x562.gif
ORGANIZER;CN="Ground%20N%20Sound%20Events":MAILTO:info@groundnsound.com.au
END:VEVENT
BEGIN:VEVENT
DTSTART;TZID=Australia/Brisbane:20210402T183000
DTEND;TZID=Australia/Brisbane:20210402T210000
DTSTAMP:20210224T172443
CREATED:20210201T020527Z
LAST-MODIFIED:20210211T014041Z
UID:1302-1617388200-1617397200@groundnsound.com.au
SUMMARY:Stand Up Comedy
DESCRIPTION:In need of a good laugh? \nCome in for our free Stand Up Comedy night! \nRegular and local upcoming comedians.
URL:https://groundnsound.com.au/event/stand-up-comedy/2021-04-02/
LOCATION:Ground N Sound\, 23 Musgrave Ave\, Chirn Park\, Queensland\, 4215\, Australia
ATTACH;FMTTYPE=image/gif:https://groundnsound.com.au/wp-content/uploads/2021/01/Comedy_night_400x300-e1610764493133.gif
ORGANIZER;CN="Ground%20N%20Sound%20Events":MAILTO:info@groundnsound.com.au
END:VEVENT
BEGIN:VEVENT
DTSTART;TZID=Australia/Brisbane:20210404T120000
DTEND;TZID=Australia/Brisbane:20210404T160000
DTSTAMP:20210224T172443
CREATED:20210201T023102Z
LAST-MODIFIED:20210208T021541Z
UID:1453-1617537600-1617552000@groundnsound.com.au
SUMMARY:Open MIC
DESCRIPTION:Come in and experience what the local talent has to offer!
URL:https://groundnsound.com.au/event/open-mic/2021-04-04/
LOCATION:Ground N Sound\, 23 Musgrave Ave\, Chirn Park\, Queensland\, 4215\, Australia
ATTACH;FMTTYPE=image/gif:https://groundnsound.com.au/wp-content/uploads/2021/02/jazz_band_750x563.gif
ORGANIZER;CN="Ground%20N%20Sound%20Events":MAILTO:info@groundnsound.com.au
END:VEVENT
BEGIN:VEVENT
DTSTART;TZID=Australia/Brisbane:20210407T183000
DTEND;TZID=Australia/Brisbane:20210407T210000
DTSTAMP:20210224T172443
CREATED:20210201T015401Z
LAST-MODIFIED:20210201T052719Z
UID:1402-1617820200-1617829200@groundnsound.com.au
SUMMARY:MUSIC TRIVIA NIGHT
DESCRIPTION:Test your musical knowledge.\nCovering everything from Abba to Zztop.\nCome alone or form a team!
URL:https://groundnsound.com.au/event/1190/2021-04-07/
LOCATION:Ground N Sound\, 23 Musgrave Ave\, Chirn Park\, Queensland\, 4215\, Australia
ATTACH;FMTTYPE=image/gif:https://groundnsound.com.au/wp-content/uploads/2021/02/Jake_750x562.gif
ORGANIZER;CN="Ground%20N%20Sound%20Events":MAILTO:info@groundnsound.com.au
END:VEVENT
BEGIN:VEVENT
DTSTART;TZID=Australia/Brisbane:20210411T120000
DTEND;TZID=Australia/Brisbane:20210411T160000
DTSTAMP:20210224T172443
CREATED:20210201T023102Z
LAST-MODIFIED:20210208T021542Z
UID:1454-1618142400-1618156800@groundnsound.com.au
SUMMARY:Open MIC
DESCRIPTION:Come in and experience what the local talent has to offer!
URL:https://groundnsound.com.au/event/open-mic/2021-04-11/
LOCATION:Ground N Sound\, 23 Musgrave Ave\, Chirn Park\, Queensland\, 4215\, Australia
ATTACH;FMTTYPE=image/gif:https://groundnsound.com.au/wp-content/uploads/2021/02/jazz_band_750x563.gif
ORGANIZER;CN="Ground%20N%20Sound%20Events":MAILTO:info@groundnsound.com.au
END:VEVENT
BEGIN:VEVENT
DTSTART;TZID=Australia/Brisbane:20210414T183000
DTEND;TZID=Australia/Brisbane:20210414T210000
DTSTAMP:20210224T172443
CREATED:20210201T015401Z
LAST-MODIFIED:20210201T052719Z
UID:1403-1618425000-1618434000@groundnsound.com.au
SUMMARY:MUSIC TRIVIA NIGHT
DESCRIPTION:Test your musical knowledge.\nCovering everything from Abba to Zztop.\nCome alone or form a team!
URL:https://groundnsound.com.au/event/1190/2021-04-14/
LOCATION:Ground N Sound\, 23 Musgrave Ave\, Chirn Park\, Queensland\, 4215\, Australia
ATTACH;FMTTYPE=image/gif:https://groundnsound.com.au/wp-content/uploads/2021/02/Jake_750x562.gif
ORGANIZER;CN="Ground%20N%20Sound%20Events":MAILTO:info@groundnsound.com.au
END:VEVENT
BEGIN:VEVENT
DTSTART;TZID=Australia/Brisbane:20210418T120000
DTEND;TZID=Australia/Brisbane:20210418T160000
DTSTAMP:20210224T172443
CREATED:20210201T023102Z
LAST-MODIFIED:20210208T021542Z
UID:1455-1618747200-1618761600@groundnsound.com.au
SUMMARY:Open MIC
DESCRIPTION:Come in and experience what the local talent has to offer!
URL:https://groundnsound.com.au/event/open-mic/2021-04-18/
LOCATION:Ground N Sound\, 23 Musgrave Ave\, Chirn Park\, Queensland\, 4215\, Australia
ATTACH;FMTTYPE=image/gif:https://groundnsound.com.au/wp-content/uploads/2021/02/jazz_band_750x563.gif
ORGANIZER;CN="Ground%20N%20Sound%20Events":MAILTO:info@groundnsound.com.au
END:VEVENT
BEGIN:VEVENT
DTSTART;TZID=Australia/Brisbane:20210421T183000
DTEND;TZID=Australia/Brisbane:20210421T210000
DTSTAMP:20210224T172443
CREATED:20210201T015401Z
LAST-MODIFIED:20210201T052727Z
UID:1404-1619029800-1619038800@groundnsound.com.au
SUMMARY:MUSIC TRIVIA NIGHT
DESCRIPTION:Test your musical knowledge.\nCovering everything from Abba to Zztop.\nCome alone or form a team!
URL:https://groundnsound.com.au/event/1190/2021-04-21/
LOCATION:Ground N Sound\, 23 Musgrave Ave\, Chirn Park\, Queensland\, 4215\, Australia
ATTACH;FMTTYPE=image/gif:https://groundnsound.com.au/wp-content/uploads/2021/02/Jake_750x562.gif
ORGANIZER;CN="Ground%20N%20Sound%20Events":MAILTO:info@groundnsound.com.au
END:VEVENT
BEGIN:VEVENT
DTSTART;TZID=Australia/Brisbane:20210425T120000
DTEND;TZID=Australia/Brisbane:20210425T160000
DTSTAMP:20210224T172443
CREATED:20210201T023102Z
LAST-MODIFIED:20210208T021547Z
UID:1456-1619352000-1619366400@groundnsound.com.au
SUMMARY:Open MIC
DESCRIPTION:Come in and experience what the local talent has to offer!
URL:https://groundnsound.com.au/event/open-mic/2021-04-25/
LOCATION:Ground N Sound\, 23 Musgrave Ave\, Chirn Park\, Queensland\, 4215\, Australia
ATTACH;FMTTYPE=image/gif:https://groundnsound.com.au/wp-content/uploads/2021/02/jazz_band_750x563.gif
ORGANIZER;CN="Ground%20N%20Sound%20Events":MAILTO:info@groundnsound.com.au
END:VEVENT
BEGIN:VEVENT
DTSTART;TZID=Australia/Brisbane:20210428T183000
DTEND;TZID=Australia/Brisbane:20210428T210000
DTSTAMP:20210224T172443
CREATED:20210201T015401Z
LAST-MODIFIED:20210201T052727Z
UID:1405-1619634600-1619643600@groundnsound.com.au
SUMMARY:MUSIC TRIVIA NIGHT
DESCRIPTION:Test your musical knowledge.\nCovering everything from Abba to Zztop.\nCome alone or form a team!
URL:https://groundnsound.com.au/event/1190/2021-04-28/
LOCATION:Ground N Sound\, 23 Musgrave Ave\, Chirn Park\, Queensland\, 4215\, Australia
ATTACH;FMTTYPE=image/gif:https://groundnsound.com.au/wp-content/uploads/2021/02/Jake_750x562.gif
ORGANIZER;CN="Ground%20N%20Sound%20Events":MAILTO:info@groundnsound.com.au
END:VEVENT
BEGIN:VEVENT
DTSTART;TZID=Australia/Brisbane:20210430T183000
DTEND;TZID=Australia/Brisbane:20210430T220000
DTSTAMP:20210224T172443
CREATED:20210201T021124Z
LAST-MODIFIED:20210211T012115Z
UID:1328-1619807400-1619820000@groundnsound.com.au
SUMMARY:Black Label Jazz
DESCRIPTION:For all our Jazz fans! \nTwo local musicians who love everything about jazz!
URL:https://groundnsound.com.au/event/black-label-jazz/2021-04-30/
LOCATION:Ground N Sound\, 23 Musgrave Ave\, Chirn Park\, Queensland\, 4215\, Australia
ATTACH;FMTTYPE=image/gif:https://groundnsound.com.au/wp-content/uploads/2021/02/jazz_band2_750x563.gif
ORGANIZER;CN="Ground%20N%20Sound%20Events":MAILTO:info@groundnsound.com.au
END:VEVENT
END:VCALENDAR